BEGIN:VCALENDAR
VERSION:2.0
PRODID:-//AVG Plongée - ECPv6.15.20//NONSGML v1.0//EN
CALSCALE:GREGORIAN
METHOD:PUBLISH
X-ORIGINAL-URL:https://avgplongee.fr
X-WR-CALDESC:Évènements pour AVG Plongée
REFRESH-INTERVAL;VALUE=DURATION:PT1H
X-Robots-Tag:noindex
X-PUBLISHED-TTL:PT1H
BEGIN:VTIMEZONE
TZID:Europe/Paris
BEGIN:DAYLIGHT
TZOFFSETFROM:+0100
TZOFFSETTO:+0200
TZNAME:CEST
DTSTART:20240331T010000
END:DAYLIGHT
BEGIN:STANDARD
TZOFFSETFROM:+0200
TZOFFSETTO:+0100
TZNAME:CET
DTSTART:20241027T010000
END:STANDARD
BEGIN:DAYLIGHT
TZOFFSETFROM:+0100
TZOFFSETTO:+0200
TZNAME:CEST
DTSTART:20250330T010000
END:DAYLIGHT
BEGIN:STANDARD
TZOFFSETFROM:+0200
TZOFFSETTO:+0100
TZNAME:CET
DTSTART:20251026T010000
END:STANDARD
BEGIN:DAYLIGHT
TZOFFSETFROM:+0100
TZOFFSETTO:+0200
TZNAME:CEST
DTSTART:20260329T010000
END:DAYLIGHT
BEGIN:STANDARD
TZOFFSETFROM:+0200
TZOFFSETTO:+0100
TZNAME:CET
DTSTART:20261025T010000
END:STANDARD
END:VTIMEZONE
BEGIN:VEVENT
DTSTART;TZID=Europe/Paris:20250906T100000
DTEND;TZID=Europe/Paris:20250906T170000
DTSTAMP:20260423T034624
CREATED:20250612T172044Z
LAST-MODIFIED:20250612T172044Z
UID:2381-1757152800-1757178000@avgplongee.fr
SUMMARY:Forum des associations 2025
DESCRIPTION:
URL:https://avgplongee.fr/agenda/forum-des-associations-2025/
END:VEVENT
BEGIN:VEVENT
DTSTART;TZID=Europe/Paris:20250908T200000
DTEND;TZID=Europe/Paris:20250908T220000
DTSTAMP:20260423T034624
CREATED:20250903T200018Z
LAST-MODIFIED:20250903T200018Z
UID:2395-1757361600-1757368800@avgplongee.fr
SUMMARY:Reprise des activités
DESCRIPTION:
URL:https://avgplongee.fr/agenda/reprise-des-activites-2/
LOCATION:Piscine Alice-Milliat\, 29 Av. Georges Pompidou\, Villeneuve-la-garenne\, 92390\, France
END:VEVENT
BEGIN:VEVENT
DTSTART;TZID=Europe/Paris:20250918T201500
DTEND;TZID=Europe/Paris:20250918T220000
DTSTAMP:20260423T034624
CREATED:20250903T195726Z
LAST-MODIFIED:20250903T195726Z
UID:2392-1758226500-1758232800@avgplongee.fr
SUMMARY:Fosse - plongée & apnée
DESCRIPTION:Une fosse de 1 h est proposé. \nInscrivez vous sur le lien envoyé par mail par le secrétariat pour pouvoir y assister. \nRendez-vous à 20h15.
URL:https://avgplongee.fr/agenda/fosse-plongee-apnee/
LOCATION:Fosse UCPA Aqua92\, Villeneuve la Garenne\, 92390
END:VEVENT
BEGIN:VEVENT
DTSTART;TZID=Europe/Paris:20250926T210000
DTEND;TZID=Europe/Paris:20250926T230000
DTSTAMP:20260423T034624
CREATED:20250903T200527Z
LAST-MODIFIED:20250903T200527Z
UID:2397-1758920400-1758927600@avgplongee.fr
SUMMARY:Soirée AQUAZEN
DESCRIPTION:Pour la 2ème édition de la soirée aquazen\, la piscine se transforme ainsi en un jardin zen pour offrir\, aux Villenogarennois\, un temps de relaxation. \n\n\n\n\nPublié le 30/04/2025 – Mis à jour le 10/07/2025 \n\n\n\n\n\n\n\n\n\n\n\n\nDans une ambiance « ZEN »\, les participants\, sous réserve d’inscription préalable\, pourront participer à des ateliers de détente et de bien-être\, tout en profitant de la piscine. Ils iront à la rencontre de professionnels du bien-être exerçant principalement à Villeneuve-La-Garenne. \nActivités proposées\n\nBaptêmes de plongée\nYoga\nTaïso\nJanzu\nHypnose\nGym douce\nCours de natation\nAquagym\nBaignade libre en bassin extérieur/intérieur
URL:https://avgplongee.fr/agenda/soiree-aquazen/
END:VEVENT
END:VCALENDAR