BEGIN:VCALENDAR
VERSION:2.0
PRODID:-//AVG Plongée - ECPv6.15.20//NONSGML v1.0//EN
CALSCALE:GREGORIAN
METHOD:PUBLISH
X-WR-CALNAME:AVG Plongée
X-ORIGINAL-URL:https://avgplongee.fr
X-WR-CALDESC:Évènements pour AVG Plongée
REFRESH-INTERVAL;VALUE=DURATION:PT1H
X-Robots-Tag:noindex
X-PUBLISHED-TTL:PT1H
BEGIN:VTIMEZONE
TZID:Europe/Paris
BEGIN:DAYLIGHT
TZOFFSETFROM:+0100
TZOFFSETTO:+0200
TZNAME:CEST
DTSTART:20210328T010000
END:DAYLIGHT
BEGIN:STANDARD
TZOFFSETFROM:+0200
TZOFFSETTO:+0100
TZNAME:CET
DTSTART:20211031T010000
END:STANDARD
BEGIN:DAYLIGHT
TZOFFSETFROM:+0100
TZOFFSETTO:+0200
TZNAME:CEST
DTSTART:20220327T010000
END:DAYLIGHT
BEGIN:STANDARD
TZOFFSETFROM:+0200
TZOFFSETTO:+0100
TZNAME:CET
DTSTART:20221030T010000
END:STANDARD
BEGIN:DAYLIGHT
TZOFFSETFROM:+0100
TZOFFSETTO:+0200
TZNAME:CEST
DTSTART:20230326T010000
END:DAYLIGHT
BEGIN:STANDARD
TZOFFSETFROM:+0200
TZOFFSETTO:+0100
TZNAME:CET
DTSTART:20231029T010000
END:STANDARD
END:VTIMEZONE
BEGIN:VEVENT
DTSTART;TZID=Europe/Paris:20220912T200000
DTEND;TZID=Europe/Paris:20220912T220000
DTSTAMP:20260422T070449
CREATED:20220905T191048Z
LAST-MODIFIED:20220905T191124Z
UID:2002-1663012800-1663020000@avgplongee.fr
SUMMARY:Ouverture de la saison 2022-2023
DESCRIPTION:Ouverture de la piscine \nDépôt des dossiers d’inscription à partir de 20h à la piscine.
URL:https://avgplongee.fr/agenda/ouverture-de-la-saison-2022-2023/
LOCATION:Piscine\, 29 avenue Georges Pompidou\, Villeneuve la Garenne\, 92390
END:VEVENT
BEGIN:VEVENT
DTSTART;TZID=Europe/Paris:20220923T200000
DTEND;TZID=Europe/Paris:20220923T210000
DTSTAMP:20260422T070449
CREATED:20220905T184731Z
LAST-MODIFIED:20220905T184731Z
UID:1989-1663963200-1663966800@avgplongee.fr
SUMMARY:Fosse (septembre 2022) Pour les Encadrants Plongée et Apnée
DESCRIPTION:FOSSE SPECIALE ENCADRANTS
URL:https://avgplongee.fr/agenda/fosse-septembre-2022-pour-les-encadrants-plongee-et-apnee/
LOCATION:Fosse UCPA Aqua92\, Villeneuve la Garenne\, 92390
END:VEVENT
END:VCALENDAR