BEGIN:VCALENDAR
VERSION:2.0
PRODID:-//AVG Plongée - ECPv6.15.20//NONSGML v1.0//EN
CALSCALE:GREGORIAN
METHOD:PUBLISH
X-WR-CALNAME:AVG Plongée
X-ORIGINAL-URL:https://avgplongee.fr
X-WR-CALDESC:Évènements pour AVG Plongée
REFRESH-INTERVAL;VALUE=DURATION:PT1H
X-Robots-Tag:noindex
X-PUBLISHED-TTL:PT1H
BEGIN:VTIMEZONE
TZID:Europe/Paris
BEGIN:DAYLIGHT
TZOFFSETFROM:+0100
TZOFFSETTO:+0200
TZNAME:CEST
DTSTART:20200329T010000
END:DAYLIGHT
BEGIN:STANDARD
TZOFFSETFROM:+0200
TZOFFSETTO:+0100
TZNAME:CET
DTSTART:20201025T010000
END:STANDARD
BEGIN:DAYLIGHT
TZOFFSETFROM:+0100
TZOFFSETTO:+0200
TZNAME:CEST
DTSTART:20210328T010000
END:DAYLIGHT
BEGIN:STANDARD
TZOFFSETFROM:+0200
TZOFFSETTO:+0100
TZNAME:CET
DTSTART:20211031T010000
END:STANDARD
BEGIN:DAYLIGHT
TZOFFSETFROM:+0100
TZOFFSETTO:+0200
TZNAME:CEST
DTSTART:20220327T010000
END:DAYLIGHT
BEGIN:STANDARD
TZOFFSETFROM:+0200
TZOFFSETTO:+0100
TZNAME:CET
DTSTART:20221030T010000
END:STANDARD
END:VTIMEZONE
BEGIN:VEVENT
DTSTART;TZID=Europe/Paris:20210318T203000
DTEND;TZID=Europe/Paris:20210318T220000
DTSTAMP:20260422T113305
CREATED:20200910T132641Z
LAST-MODIFIED:20200910T132641Z
UID:1638-1616099400-1616104800@avgplongee.fr
SUMMARY:Fosse (mars 2021)
DESCRIPTION:
URL:https://avgplongee.fr/agenda/fosse-mars-2021/
LOCATION:Fosse UCPA Aqua92\, Villeneuve la Garenne\, 92390
END:VEVENT
BEGIN:VEVENT
DTSTART;TZID=Europe/Paris:20210325T203000
DTEND;TZID=Europe/Paris:20210325T220000
DTSTAMP:20260422T113305
CREATED:20210321T183706Z
LAST-MODIFIED:20210321T183706Z
UID:1775-1616704200-1616709600@avgplongee.fr
SUMMARY:Cours de Bio
DESCRIPTION:Nouveau Sujet : Les espèces menacées en Méditerranée
URL:https://avgplongee.fr/agenda/cours-de-bio-2/
END:VEVENT
END:VCALENDAR