BEGIN:VCALENDAR
VERSION:2.0
PRODID:-//AVG Plongée - ECPv6.15.20//NONSGML v1.0//EN
CALSCALE:GREGORIAN
METHOD:PUBLISH
X-ORIGINAL-URL:https://avgplongee.fr
X-WR-CALDESC:Évènements pour AVG Plongée
REFRESH-INTERVAL;VALUE=DURATION:PT1H
X-Robots-Tag:noindex
X-PUBLISHED-TTL:PT1H
BEGIN:VTIMEZONE
TZID:Europe/Paris
BEGIN:DAYLIGHT
TZOFFSETFROM:+0100
TZOFFSETTO:+0200
TZNAME:CEST
DTSTART:20200329T010000
END:DAYLIGHT
BEGIN:STANDARD
TZOFFSETFROM:+0200
TZOFFSETTO:+0100
TZNAME:CET
DTSTART:20201025T010000
END:STANDARD
BEGIN:DAYLIGHT
TZOFFSETFROM:+0100
TZOFFSETTO:+0200
TZNAME:CEST
DTSTART:20210328T010000
END:DAYLIGHT
BEGIN:STANDARD
TZOFFSETFROM:+0200
TZOFFSETTO:+0100
TZNAME:CET
DTSTART:20211031T010000
END:STANDARD
BEGIN:DAYLIGHT
TZOFFSETFROM:+0100
TZOFFSETTO:+0200
TZNAME:CEST
DTSTART:20220327T010000
END:DAYLIGHT
BEGIN:STANDARD
TZOFFSETFROM:+0200
TZOFFSETTO:+0100
TZNAME:CET
DTSTART:20221030T010000
END:STANDARD
END:VTIMEZONE
BEGIN:VEVENT
DTSTART;TZID=Europe/Paris:20210218T203000
DTEND;TZID=Europe/Paris:20210218T220000
DTSTAMP:20260422T130728
CREATED:20200910T132613Z
LAST-MODIFIED:20200910T132613Z
UID:1636-1613680200-1613685600@avgplongee.fr
SUMMARY:Fosse (févr 2021)
DESCRIPTION:
URL:https://avgplongee.fr/agenda/fosse-fevr-2021/
LOCATION:Fosse UCPA Aqua92\, Villeneuve la Garenne\, 92390
END:VEVENT
BEGIN:VEVENT
DTSTART;TZID=Europe/Paris:20210225T203000
DTEND;TZID=Europe/Paris:20210225T220000
DTSTAMP:20260422T130728
CREATED:20210118T173450Z
LAST-MODIFIED:20210118T173450Z
UID:1722-1614285000-1614290400@avgplongee.fr
SUMMARY:Cours de Bio
DESCRIPTION:
URL:https://avgplongee.fr/agenda/cours-de-bio/
LOCATION:Visio
END:VEVENT
END:VCALENDAR