BEGIN:VCALENDAR
VERSION:2.0
PRODID:-//AVG Plongée - ECPv6.15.20//NONSGML v1.0//EN
CALSCALE:GREGORIAN
METHOD:PUBLISH
X-ORIGINAL-URL:https://avgplongee.fr
X-WR-CALDESC:Évènements pour AVG Plongée
REFRESH-INTERVAL;VALUE=DURATION:PT1H
X-Robots-Tag:noindex
X-PUBLISHED-TTL:PT1H
BEGIN:VTIMEZONE
TZID:Europe/Paris
BEGIN:DAYLIGHT
TZOFFSETFROM:+0100
TZOFFSETTO:+0200
TZNAME:CEST
DTSTART:20190331T010000
END:DAYLIGHT
BEGIN:STANDARD
TZOFFSETFROM:+0200
TZOFFSETTO:+0100
TZNAME:CET
DTSTART:20191027T010000
END:STANDARD
BEGIN:DAYLIGHT
TZOFFSETFROM:+0100
TZOFFSETTO:+0200
TZNAME:CEST
DTSTART:20200329T010000
END:DAYLIGHT
BEGIN:STANDARD
TZOFFSETFROM:+0200
TZOFFSETTO:+0100
TZNAME:CET
DTSTART:20201025T010000
END:STANDARD
BEGIN:DAYLIGHT
TZOFFSETFROM:+0100
TZOFFSETTO:+0200
TZNAME:CEST
DTSTART:20210328T010000
END:DAYLIGHT
BEGIN:STANDARD
TZOFFSETFROM:+0200
TZOFFSETTO:+0100
TZNAME:CET
DTSTART:20211031T010000
END:STANDARD
END:VTIMEZONE
BEGIN:VEVENT
DTSTART;TZID=Europe/Paris:20201119T203000
DTEND;TZID=Europe/Paris:20201119T220000
DTSTAMP:20260422T173123
CREATED:20200910T132415Z
LAST-MODIFIED:20201231T104802Z
UID:1632-1605817800-1605823200@avgplongee.fr
SUMMARY:Annulée - Fosse (nov 2020)
DESCRIPTION:
URL:https://avgplongee.fr/agenda/fosse-nov-2020/
LOCATION:Fosse UCPA Aqua92\, Villeneuve la Garenne\, 92390
END:VEVENT
BEGIN:VEVENT
DTSTART;TZID=Europe/Paris:20201119T203000
DTEND;TZID=Europe/Paris:20201119T220000
DTSTAMP:20260422T173123
CREATED:20201109T160853Z
LAST-MODIFIED:20201109T160853Z
UID:1673-1605817800-1605823200@avgplongee.fr
SUMMARY:Cours de Bio : Les Associations
DESCRIPTION:
URL:https://avgplongee.fr/agenda/cours-de-bio-les-associations/
LOCATION:Visio
END:VEVENT
END:VCALENDAR