BEGIN:VCALENDAR
VERSION:2.0
PRODID:-//AVG Plongée - ECPv6.15.20//NONSGML v1.0//EN
CALSCALE:GREGORIAN
METHOD:PUBLISH
X-WR-CALNAME:AVG Plongée
X-ORIGINAL-URL:https://avgplongee.fr
X-WR-CALDESC:Évènements pour AVG Plongée
REFRESH-INTERVAL;VALUE=DURATION:PT1H
X-Robots-Tag:noindex
X-PUBLISHED-TTL:PT1H
BEGIN:VTIMEZONE
TZID:Europe/Paris
BEGIN:DAYLIGHT
TZOFFSETFROM:+0100
TZOFFSETTO:+0200
TZNAME:CEST
DTSTART:20190331T010000
END:DAYLIGHT
BEGIN:STANDARD
TZOFFSETFROM:+0200
TZOFFSETTO:+0100
TZNAME:CET
DTSTART:20191027T010000
END:STANDARD
BEGIN:DAYLIGHT
TZOFFSETFROM:+0100
TZOFFSETTO:+0200
TZNAME:CEST
DTSTART:20200329T010000
END:DAYLIGHT
BEGIN:STANDARD
TZOFFSETFROM:+0200
TZOFFSETTO:+0100
TZNAME:CET
DTSTART:20201025T010000
END:STANDARD
BEGIN:DAYLIGHT
TZOFFSETFROM:+0100
TZOFFSETTO:+0200
TZNAME:CEST
DTSTART:20210328T010000
END:DAYLIGHT
BEGIN:STANDARD
TZOFFSETFROM:+0200
TZOFFSETTO:+0100
TZNAME:CET
DTSTART:20211031T010000
END:STANDARD
END:VTIMEZONE
BEGIN:VEVENT
DTSTART;TZID=Europe/Paris:20200903T200000
DTEND;TZID=Europe/Paris:20200903T210000
DTSTAMP:20260422T203428
CREATED:20200831T220249Z
LAST-MODIFIED:20200831T220249Z
UID:1600-1599163200-1599166800@avgplongee.fr
SUMMARY:Bureau
DESCRIPTION:
URL:https://avgplongee.fr/agenda/bureau/
LOCATION:Piscine\, 29 avenue Georges Pompidou\, Villeneuve la Garenne\, 92390
END:VEVENT
BEGIN:VEVENT
DTSTART;TZID=Europe/Paris:20200906T100000
DTEND;TZID=Europe/Paris:20200906T180000
DTSTAMP:20260422T203428
CREATED:20200831T220005Z
LAST-MODIFIED:20200831T220208Z
UID:1597-1599386400-1599415200@avgplongee.fr
SUMMARY:Forum des associations 2020
DESCRIPTION:
URL:https://avgplongee.fr/agenda/forum-des-associations-2020/
LOCATION:LA FABRICK – Fosse aux Astres\, 74 rue de la fosse aux astres\, Villeneuve la Garenne\, 92390\, France
END:VEVENT
BEGIN:VEVENT
DTSTART;TZID=Europe/Paris:20200917T203000
DTEND;TZID=Europe/Paris:20200917T220000
DTSTAMP:20260422T203428
CREATED:20200831T220334Z
LAST-MODIFIED:20200910T132111Z
UID:1602-1600374600-1600380000@avgplongee.fr
SUMMARY:Fosse (sept 2020)
DESCRIPTION:
URL:https://avgplongee.fr/agenda/fosse-sept-2020/
LOCATION:Fosse UCPA Aqua92\, Villeneuve la Garenne\, 92390
END:VEVENT
BEGIN:VEVENT
DTSTART;TZID=Europe/Paris:20200928T200000
DTEND;TZID=Europe/Paris:20200928T210000
DTSTAMP:20260422T203428
CREATED:20200913T220548Z
LAST-MODIFIED:20200913T220548Z
UID:1646-1601323200-1601326800@avgplongee.fr
SUMMARY:Réunion Moniteurs
DESCRIPTION:
URL:https://avgplongee.fr/agenda/reunion-moniteurs/
LOCATION:Piscine\, 29 avenue Georges Pompidou\, Villeneuve la Garenne\, 92390
END:VEVENT
END:VCALENDAR