BEGIN:VCALENDAR
VERSION:2.0
PRODID:-//AVG Plongée - ECPv6.15.20//NONSGML v1.0//EN
CALSCALE:GREGORIAN
METHOD:PUBLISH
X-ORIGINAL-URL:https://avgplongee.fr
X-WR-CALDESC:Évènements pour AVG Plongée
REFRESH-INTERVAL;VALUE=DURATION:PT1H
X-Robots-Tag:noindex
X-PUBLISHED-TTL:PT1H
BEGIN:VTIMEZONE
TZID:Europe/Paris
BEGIN:DAYLIGHT
TZOFFSETFROM:+0100
TZOFFSETTO:+0200
TZNAME:CEST
DTSTART:20220327T010000
END:DAYLIGHT
BEGIN:STANDARD
TZOFFSETFROM:+0200
TZOFFSETTO:+0100
TZNAME:CET
DTSTART:20221030T010000
END:STANDARD
BEGIN:DAYLIGHT
TZOFFSETFROM:+0100
TZOFFSETTO:+0200
TZNAME:CEST
DTSTART:20230326T010000
END:DAYLIGHT
BEGIN:STANDARD
TZOFFSETFROM:+0200
TZOFFSETTO:+0100
TZNAME:CET
DTSTART:20231029T010000
END:STANDARD
BEGIN:DAYLIGHT
TZOFFSETFROM:+0100
TZOFFSETTO:+0200
TZNAME:CEST
DTSTART:20240331T010000
END:DAYLIGHT
BEGIN:STANDARD
TZOFFSETFROM:+0200
TZOFFSETTO:+0100
TZNAME:CET
DTSTART:20241027T010000
END:STANDARD
END:VTIMEZONE
BEGIN:VEVENT
DTSTART;TZID=Europe/Paris:20230909T100000
DTEND;TZID=Europe/Paris:20230909T170000
DTSTAMP:20260422T111737
CREATED:20230823T173551Z
LAST-MODIFIED:20230823T174105Z
UID:1992-1694253600-1694278800@avgplongee.fr
SUMMARY:Forum des Associations (septembre 2023)
DESCRIPTION:FORUM DES ASSOCIATIONS : le 09 septembre 2023. \n \nRendez-vous au parc à côté de la mairie.
URL:https://avgplongee.fr/agenda/forum-des-associations-septembre-2023/
LOCATION:Parc de la Mairie\, France
ATTACH;FMTTYPE=image/jpeg:https://avgplongee.fr/wp-content/uploads/2022/09/csm_WEB_RENCONTRE_DES_ASSOS_13c68e7275.jpg
END:VEVENT
END:VCALENDAR