BEGIN:VCALENDAR
VERSION:2.0
PRODID:-//AVG Plongée - ECPv6.15.20//NONSGML v1.0//EN
CALSCALE:GREGORIAN
METHOD:PUBLISH
X-ORIGINAL-URL:https://avgplongee.fr
X-WR-CALDESC:Évènements pour AVG Plongée
REFRESH-INTERVAL;VALUE=DURATION:PT1H
X-Robots-Tag:noindex
X-PUBLISHED-TTL:PT1H
BEGIN:VTIMEZONE
TZID:Europe/Paris
BEGIN:DAYLIGHT
TZOFFSETFROM:+0100
TZOFFSETTO:+0200
TZNAME:CEST
DTSTART:20190331T010000
END:DAYLIGHT
BEGIN:STANDARD
TZOFFSETFROM:+0200
TZOFFSETTO:+0100
TZNAME:CET
DTSTART:20191027T010000
END:STANDARD
BEGIN:DAYLIGHT
TZOFFSETFROM:+0100
TZOFFSETTO:+0200
TZNAME:CEST
DTSTART:20200329T010000
END:DAYLIGHT
BEGIN:STANDARD
TZOFFSETFROM:+0200
TZOFFSETTO:+0100
TZNAME:CET
DTSTART:20201025T010000
END:STANDARD
BEGIN:DAYLIGHT
TZOFFSETFROM:+0100
TZOFFSETTO:+0200
TZNAME:CEST
DTSTART:20210328T010000
END:DAYLIGHT
BEGIN:STANDARD
TZOFFSETFROM:+0200
TZOFFSETTO:+0100
TZNAME:CET
DTSTART:20211031T010000
END:STANDARD
END:VTIMEZONE
BEGIN:VEVENT
DTSTART;TZID=Europe/Paris:20200518T200000
DTEND;TZID=Europe/Paris:20200518T220000
DTSTAMP:20260423T054950
CREATED:20200211T133906Z
LAST-MODIFIED:20200511T182840Z
UID:398-1589832000-1589839200@avgplongee.fr
SUMMARY:Cours de biologie : L'Estran (en visio)
DESCRIPTION:
URL:https://avgplongee.fr/agenda/cours-de-biologie-4/
ATTACH;FMTTYPE=image/jpeg:https://avgplongee.fr/wp-content/uploads/2020/05/IMG_20190425_162302.jpg
END:VEVENT
END:VCALENDAR